BEGIN:VCALENDAR
VERSION:2.0
PRODID:gruene-bamberg-land.de
METHOD:PUBLISH
BEGIN:VTIMEZONE
TZID:Europe/Berlin
X-LIC-LOCATION:Europe/Berlin
BEGIN:DAYLIGHT
TZOFFSETFROM:+0100
TZOFFSETTO:+0200
TZNAME:CEST
DTSTART:19700329T020000
RRULE:FREQ=YEARLY;INTERVAL=1;BYDAY=-1SU;BYMONTH=3
END:DAYLIGHT
BEGIN:STANDARD
TZOFFSETFROM:+0200
TZOFFSETTO:+0100
TZNAME:CET
DTSTART:19701025T030000
RRULE:FREQ=YEARLY;INTERVAL=1;BYDAY=-1SU;BYMONTH=10
END:STANDARD
END:VTIMEZONE
BEGIN:VEVENT
UID:2573cbf58397e5c645d728d1f4738a25@gruene-bamberg-land.de
URL;VALUE=URI:https://gruene-bamberg-land.de/termine/wahlkampfteam-treffe
 n/
LOCATION:Zoom
SUMMARY:Wahlkampf-Teamtreffen
DESCRIPTION;ALTREP="data:text/html,%0A%3Cp%3EUnser%20Wahlkampfteam%20trif
 ft%20sich%20diesmal%20digital%2C%20um%20die%20n%C3%A4chsten%20Schritte%20
 im%20Wahlkampf%20zu%20besprechen.%3Cbr%3EDer%20zoom-Link%20kann%20bei%20%
 3Ca%20href%3D%22mailto%3Awahlkampf2023%40gruene-bamberg-land.de%22%3Ewahl
 kampf2023%40gruene-bamberg-land.de%3C%2Fa%3E%20erfragt%20werden.%3Cbr%3E%
 3Cbr%3EDie%20Tagesordnung%3A%3Cbr%3E1.%20Bericht%20der%20Wahlkampfkoordin
 ation%3Cbr%3E2.%20Termine%20%3Cbr%3E3.%20Sonstiges%3C%2Fp%3E%0A":Unser Wa
 hlkampfteam trifft sich diesmal digital\, um die nächsten Schritte im Wa
 hlkampf zu besprechen.Der zoom-Link kann bei wahlkampf2023@gruene-bamberg
 -land.de erfragt werden.Die Tagesordnung:1. Bericht der Wahlkampfkoordina
 tion2. Termine 3. Sonstiges
CLASS:PUBLIC
DTSTART;TZID=Europe/Berlin:20230920T190000
DTEND;TZID=Europe/Berlin:20230920T193000
DTSTAMP:20260425T140137
END:VEVENT
END:VCALENDAR