BEGIN:VCALENDAR
VERSION:2.0
PRODID:gruene-bamberg-land.de
METHOD:PUBLISH
BEGIN:VTIMEZONE
TZID:Europe/Berlin
X-LIC-LOCATION:Europe/Berlin
BEGIN:DAYLIGHT
TZOFFSETFROM:+0100
TZOFFSETTO:+0200
TZNAME:CEST
DTSTART:19700329T020000
RRULE:FREQ=YEARLY;INTERVAL=1;BYDAY=-1SU;BYMONTH=3
END:DAYLIGHT
BEGIN:STANDARD
TZOFFSETFROM:+0200
TZOFFSETTO:+0100
TZNAME:CET
DTSTART:19701025T030000
RRULE:FREQ=YEARLY;INTERVAL=1;BYDAY=-1SU;BYMONTH=10
END:STANDARD
END:VTIMEZONE
BEGIN:VEVENT
UID:d91b2aad67d08374c3a34fa7d7147ce8@gruene-bamberg-land.de
URL;VALUE=URI:https://gruene-bamberg-land.de/termine/stammtisch-hallstadt
 /
LOCATION:Fässla Stubn, Marktplatz 3, Hallstadt
SUMMARY:Stammtisch Hallstadt
DESCRIPTION;ALTREP="data:text/html,%0A%3Cp%3EDie%20Ortsgruppe%20B%C3%BCnd
 nis90%2FDIE%20GR%C3%9CNEN%20l%C3%A4dt%20ein%20zum%20informativen%20Austau
 sch%20%2F%20Stammtisch.%20%20Am%20Donnerstag%2016.01.2025%20ab%2019.00%20
 Uhr%20in%20den%20F%C3%A4ssla%20Stubn%2C%20Hallstadt.%3C%2Fp%3E%0A%0A%0A%0
 A%3Cp%3E%3Cbr%3EWir%20freuen%20uns%20auf%20Euch%21%3C%2Fp%3E%0A":Die Orts
 gruppe Bündnis90/DIE GRÜNEN lädt ein zum informativen Austausch / Stam
 mtisch.  Am Donnerstag 16.01.2025 ab 19.00 Uhr in den Fässla Stubn\, Hal
 lstadt.\n\nWir freuen uns auf Euch!
CLASS:PUBLIC
DTSTART;TZID=Europe/Berlin:20250116T190000
DTEND;TZID=Europe/Berlin:20250116T210000
DTSTAMP:20260423T144010
END:VEVENT
END:VCALENDAR