BEGIN:VCALENDAR
VERSION:2.0
PRODID:gruene-bamberg-land.de
METHOD:PUBLISH
BEGIN:VTIMEZONE
TZID:Europe/Berlin
X-LIC-LOCATION:Europe/Berlin
BEGIN:DAYLIGHT
TZOFFSETFROM:+0100
TZOFFSETTO:+0200
TZNAME:CEST
DTSTART:19700329T020000
RRULE:FREQ=YEARLY;INTERVAL=1;BYDAY=-1SU;BYMONTH=3
END:DAYLIGHT
BEGIN:STANDARD
TZOFFSETFROM:+0200
TZOFFSETTO:+0100
TZNAME:CET
DTSTART:19701025T030000
RRULE:FREQ=YEARLY;INTERVAL=1;BYDAY=-1SU;BYMONTH=10
END:STANDARD
END:VTIMEZONE
BEGIN:VEVENT
UID:8661776ee76d87c3e1b3c7e349f7b1b0@gruene-bamberg-land.de
URL;VALUE=URI:https://gruene-bamberg-land.de/termine/radltour-mit-den-ste
 gauracher-gruenen/
LOCATION:Rathaus, Stegaurach
SUMMARY:Radltour mit den Stegauracher Grünen
DESCRIPTION;ALTREP="data:text/html,%0A%3Cp%3EAm%20Samstag%2C%20den%20%3Cs
 trong%3E27.%20September%2C%2012.30%20Uhr%3C%2Fstrong%3E%2C%20radeln%20die
 %20Stegauracher%20GR%C3%9CNEN%20zu%20den%20Windr%C3%A4dern%20auf%20die%20
 Trabesldorfer%20H%C3%B6he.%20%3C%2Fp%3E%0A%0A%0A%0A%3Cp%3ERoland%20L%C3%B
 6sel%2C%20der%20Betreiber%20der%20Windr%C3%A4der%2C%20wird%20uns%20nicht%
 20nur%20interessante%20Dinge%20%C3%BCber%20seine%20Windr%C3%A4der%20erz%C
 3%A4hlen%2C%20sondern%20wir%20wollen%20auch%20%C3%BCber%20die%20weiteren%
 20Windkraftplanungen%20in%20unserer%20Region%20sprechen%20und%20informier
 en.%20%3C%2Fp%3E%0A%0A%0A%0A%3Cp%3EZum%20Ausklang%20werden%20wir%20uns%20
 im%20Alten%20Kurhaus%20zusammensetzen.%20%3C%2Fp%3E%0A%0A%0A%0A%3Cp%3ETre
 ffpunkt%20f%C3%BCr%20die%20gemeinsame%20Radltour%20ist%20um%2012.30%20das
 %20Rathaus%20Stegaurach.%20Zur%20besseren%20Planung%20bitten%20wir%20bei%
 20Teilnahme%20um%20R%C3%BCckmeldung%20bis%20sp%C3%A4testens%20zum%2019.%2
 0September%20unter%20%3Ca%20href%3D%22mailto%3Astegaurach%40gruene-bamber
 g-land.de%22%3Estegaurach%40gruene-bamberg-land.de%3C%2Fa%3E.%3C%2Fp%3E%0
 A":Am Samstag\, den 27. September\, 12.30 Uhr\, radeln die Stegauracher G
 RÜNEN zu den Windrädern auf die Trabesldorfer Höhe.\n\nRoland Lösel\,
  der Betreiber der Windräder\, wird uns nicht nur interessante Dinge üb
 er seine Windräder erzählen\, sondern wir wollen auch über die weitere
 n Windkraftplanungen in unserer Region sprechen und informieren.\n\nZum A
 usklang werden wir uns im Alten Kurhaus zusammensetzen.\n\nTreffpunkt fü
 r die gemeinsame Radltour ist um 12.30 das Rathaus Stegaurach. Zur besser
 en Planung bitten wir bei Teilnahme um Rückmeldung bis spätestens zum 1
 9. September unter stegaurach@gruene-bamberg-land.de.
CLASS:PUBLIC
DTSTART;TZID=Europe/Berlin:20250927T123000
DTEND;TZID=Europe/Berlin:20250927T133000
DTSTAMP:20260421T100940
END:VEVENT
END:VCALENDAR