BEGIN:VCALENDAR
VERSION:2.0
PRODID:gruene-bamberg-land.de
METHOD:PUBLISH
BEGIN:VTIMEZONE
TZID:Europe/Berlin
X-LIC-LOCATION:Europe/Berlin
BEGIN:DAYLIGHT
TZOFFSETFROM:+0100
TZOFFSETTO:+0200
TZNAME:CEST
DTSTART:19700329T020000
RRULE:FREQ=YEARLY;INTERVAL=1;BYDAY=-1SU;BYMONTH=3
END:DAYLIGHT
BEGIN:STANDARD
TZOFFSETFROM:+0200
TZOFFSETTO:+0100
TZNAME:CET
DTSTART:19701025T030000
RRULE:FREQ=YEARLY;INTERVAL=1;BYDAY=-1SU;BYMONTH=10
END:STANDARD
END:VTIMEZONE
BEGIN:VEVENT
UID:cfc3df31c923e577257e60e7fe4bb657@gruene-bamberg-land.de
URL;VALUE=URI:https://gruene-bamberg-land.de/termine/nahverkehrsplan-bamb
 erg/
LOCATION:Gasthof Wagner Bräu, Hauptstr. 15, Kemmern
SUMMARY:Wann kommt die Zeitenwende im ÖPNV?
DESCRIPTION;ALTREP="data:text/html,%0A%3Cp%3E%3Cstrong%3EKemmern.%20%3C%2
 Fstrong%3EAm%20Montag%2C%2030.5.2022%20um%2019%3A30%20Uhr%20l%C3%A4dt%20d
 er%20Kreisverband%20Gr%C3%BCne%20Bamberg%20Land%20alle%20Interessierten%2
 0in%20die%20Gastwirtschaft%20Wagner%20Br%C3%A4u%20%28Hauptstr.%2015%2C%20
 Kemmern%29%20ein%2C%20um%20%C3%BCber%20das%20Thema%20%C3%96PNV%20im%20Lan
 dkreis%20Bamberg%20zu%20informieren%20und%20sich%20auszutauschen.%20Anlas
 s%20ist%20die%20geplante%20Fortschreibung%20des%20Nahverkehrsplans%20durc
 h%20den%20Kreistag%20am%202.%20Juni%202022.%20Sie%20erfahren%2C%20was%20d
 ieser%20bringen%20soll%20und%20wo%20die%20Herausforderungen%20liegen.%20U
 nd%20welche%20Bedeutung%20ein%20guter%20%C3%96PNV%20f%C3%BCr%20Klimaschut
 z%2C%20Teilhabe%20und%20Lebensqualit%C3%A4t%20hat.%20Ganz%20konkret%20geb
 en%20wir%20auch%20Tipps%20zum%209-Euro-Ticket%20und%20wie%20Sie%20das%20a
 ls%20Bewohner%2Ain%20des%20Landkreises%20Bamberg%20gut%20nutzen%20k%C3%B6
 nnen.%20Selbst%20wenn%20die%20Busverbindung%20in%20Ihrer%20Gemeinde%20noc
 h%20zu%20w%C3%BCnschen%20%C3%BCbrigl%C3%A4sst.%3C%2Fp%3E%0A":Kemmern. Am 
 Montag\, 30.5.2022 um 19:30 Uhr lädt der Kreisverband Grüne Bamberg Lan
 d alle Interessierten in die Gastwirtschaft Wagner Bräu (Hauptstr. 15\, 
 Kemmern) ein\, um über das Thema ÖPNV im Landkreis Bamberg zu informier
 en und sich auszutauschen. Anlass ist die geplante Fortschreibung des Nah
 verkehrsplans durch den Kreistag am 2. Juni 2022. Sie erfahren\, was dies
 er bringen soll und wo die Herausforderungen liegen. Und welche Bedeutung
  ein guter ÖPNV für Klimaschutz\, Teilhabe und Lebensqualität hat. Gan
 z konkret geben wir auch Tipps zum 9-Euro-Ticket und wie Sie das als Bewo
 hner*in des Landkreises Bamberg gut nutzen können. Selbst wenn die Busve
 rbindung in Ihrer Gemeinde noch zu wünschen übriglässt.
CLASS:PUBLIC
DTSTART;TZID=Europe/Berlin:20220530T193000
DTEND;TZID=Europe/Berlin:20220530T210000
DTSTAMP:20260419T164959
END:VEVENT
END:VCALENDAR