BEGIN:VCALENDAR
VERSION:2.0
PRODID:gruene-bamberg-land.de
METHOD:PUBLISH
BEGIN:VTIMEZONE
TZID:Europe/Berlin
X-LIC-LOCATION:Europe/Berlin
BEGIN:DAYLIGHT
TZOFFSETFROM:+0100
TZOFFSETTO:+0200
TZNAME:CEST
DTSTART:19700329T020000
RRULE:FREQ=YEARLY;INTERVAL=1;BYDAY=-1SU;BYMONTH=3
END:DAYLIGHT
BEGIN:STANDARD
TZOFFSETFROM:+0200
TZOFFSETTO:+0100
TZNAME:CET
DTSTART:19701025T030000
RRULE:FREQ=YEARLY;INTERVAL=1;BYDAY=-1SU;BYMONTH=10
END:STANDARD
END:VTIMEZONE
BEGIN:VEVENT
UID:2dca6cad7e9dc4352d241dc39b5ad0f5@gruene-bamberg-land.de
URL;VALUE=URI:https://gruene-bamberg-land.de/termine/jahreshauptversammlu
 ng-des-kreisverbandes-gruene-bamberg-land/
LOCATION:wird noch bekannt gegeben
SUMMARY:Jahreshauptversammlung des Kreisverbandes Grüne Bamberg-Land
DESCRIPTION;ALTREP="data:text/html,%0A%3Cp%3EDer%20Kreisverband%20von%20B
 %C3%BCndnis%2090%2FDie%20Gr%C3%BCnen%20Bamberg-Land%20l%C3%A4dt%20am%2019
 .10.2022%2C%20um%2019%3A30%20Uhr%2C%20zur%20%C3%B6ffentlichen%20Jahreshau
 ptversammlung%20ein.%20Es%20stehen%20Vorstandswahlen%20an.%3C%2Fp%3E%0A%0
 A%0A%0A%3Cp%3EDie%20genaue%20Tagesordnung%20und%20der%20Veranstaltungsort
 %20werden%20baldm%C3%B6glichst%20hier%20bekannt%20gegeben.%3C%2Fp%3E%0A":
 Der Kreisverband von Bündnis 90/Die Grünen Bamberg-Land lädt am 19.10.
 2022\, um 19:30 Uhr\, zur öffentlichen Jahreshauptversammlung ein. Es st
 ehen Vorstandswahlen an.\n\nDie genaue Tagesordnung und der Veranstaltung
 sort werden baldmöglichst hier bekannt gegeben.
CLASS:PUBLIC
DTSTART;TZID=Europe/Berlin:20221019T193000
DTEND;TZID=Europe/Berlin:20221019T203000
DTSTAMP:20260425T190345
END:VEVENT
END:VCALENDAR