BEGIN:VCALENDAR
VERSION:2.0
PRODID:gruene-bamberg-land.de
METHOD:PUBLISH
BEGIN:VTIMEZONE
TZID:Europe/Berlin
X-LIC-LOCATION:Europe/Berlin
BEGIN:DAYLIGHT
TZOFFSETFROM:+0100
TZOFFSETTO:+0200
TZNAME:CEST
DTSTART:19700329T020000
RRULE:FREQ=YEARLY;INTERVAL=1;BYDAY=-1SU;BYMONTH=3
END:DAYLIGHT
BEGIN:STANDARD
TZOFFSETFROM:+0200
TZOFFSETTO:+0100
TZNAME:CET
DTSTART:19701025T030000
RRULE:FREQ=YEARLY;INTERVAL=1;BYDAY=-1SU;BYMONTH=10
END:STANDARD
END:VTIMEZONE
BEGIN:VEVENT
UID:03f9eb281ff0060e67595371d433199f@gruene-bamberg-land.de
URL;VALUE=URI:https://gruene-bamberg-land.de/termine/gruene-jugend-neumit
 gliedertreffen/
LOCATION:Grünes Büro, Luitpoldstraße 53, Bamberg
SUMMARY:GRÜNE JUGEND: NEUMITGLIEDERTREFFEN
DESCRIPTION;ALTREP="data:text/html,%0A%3Cp%3E%3Cstrong%3EACHTUNG%21%21%3C
 %2Fstrong%3E%3Cbr%3E%3Cstrong%3EDa%20das%20Wetter%20eher%20schlecht%20wer
 den%20soll%2C%20findet%20das%20Treffen%20im%20Gr%C3%BCnen%20B%C3%BCro%20s
 tatt.%3C%2Fstrong%3E%3Cbr%3E%3Cbr%3EAm%2030.%20Mai%20treffen%20wir%20uns%
 20in%20Bamberg%20zu%20einem%20Neumitgliedertreffen.%3C%2Fp%3E%0A%0A%0A%0A
 %3Cp%3EDu%20bist%20neu%20bei%20der%20Gr%C3%BCnen%20Jugend%2C%20interessie
 rt%20oder%20schon%20l%C3%A4nger%20dabei%2C%20bist%20aber%20noch%20nicht%2
 0so%20richtig%20reingekommen%3F%20Dann%20komm%20doch%20gerne%20zu%20unser
 em%20Neumitglieder-%20und%20Interessiertentreffen.%20Bei%20einem%20k%C3%B
 Chlen%20Getr%C3%A4nk%20und%20ein%20paar%20leckeren%20Snacks%20kannst%20du
 %20die%20Gr%C3%BCne%20Jugend%20besser%20kennenlernen.%20Wir%20freuen%20un
 s%20auf%20dich%21%3C%2Fp%3E%0A%0A%0A%0A%3Cp%3EBei%20der%20Gr%C3%BCnen%20J
 ugend%20sind%20alle%20bis%20zum%2030.%20Geburtstag%20herzlich%20willkomme
 n%2C%20ein%20Mindestalter%20gibt%20es%20nicht.%20Bei%20Fragen%20schreibt%
 20gerne%20eine%20Mail%20an%26nbsp%3B%3Ca%20href%3D%22mailto%3Akontakt%40g
 j-bamberg.de%22%20target%3D%22_blank%22%20rel%3D%22noreferrer%20noopener%
 22%3Ekontakt%40gj-bamberg.de%3C%2Fa%3E%3C%2Fp%3E%0A":ACHTUNG!!Da das Wett
 er eher schlecht werden soll\, findet das Treffen im Grünen Büro statt.
 Am 30. Mai treffen wir uns in Bamberg zu einem Neumitgliedertreffen.\n\nD
 u bist neu bei der Grünen Jugend\, interessiert oder schon länger dabei
 \, bist aber noch nicht so richtig reingekommen? Dann komm doch gerne zu 
 unserem Neumitglieder- und Interessiertentreffen. Bei einem kühlen Getr
 änk und ein paar leckeren Snacks kannst du die Grüne Jugend besser kenn
 enlernen. Wir freuen uns auf dich!\n\nBei der Grünen Jugend sind alle bi
 s zum 30. Geburtstag herzlich willkommen\, ein Mindestalter gibt es nicht
 . Bei Fragen schreibt gerne eine Mail an kontakt@gj-bamberg.de
CLASS:PUBLIC
DTSTART;TZID=Europe/Berlin:20240530T160000
DTEND;TZID=Europe/Berlin:20240530T170000
DTSTAMP:20260422T011101
END:VEVENT
END:VCALENDAR