BEGIN:VCALENDAR
VERSION:2.0
PRODID:gruene-bamberg-land.de
METHOD:PUBLISH
BEGIN:VTIMEZONE
TZID:Europe/Berlin
X-LIC-LOCATION:Europe/Berlin
BEGIN:DAYLIGHT
TZOFFSETFROM:+0100
TZOFFSETTO:+0200
TZNAME:CEST
DTSTART:19700329T020000
RRULE:FREQ=YEARLY;INTERVAL=1;BYDAY=-1SU;BYMONTH=3
END:DAYLIGHT
BEGIN:STANDARD
TZOFFSETFROM:+0200
TZOFFSETTO:+0100
TZNAME:CET
DTSTART:19701025T030000
RRULE:FREQ=YEARLY;INTERVAL=1;BYDAY=-1SU;BYMONTH=10
END:STANDARD
END:VTIMEZONE
BEGIN:VEVENT
UID:ffe152f994e1dd19334c7fe4ed65e6ee@gruene-bamberg-land.de
URL;VALUE=URI:https://gruene-bamberg-land.de/termine/boule-turnier/
LOCATION:Unter den Platanen, Gundelsheim
SUMMARY:Boule-Turnier
DESCRIPTION;ALTREP="data:text/html,%0A%3Cp%3EDie%20Gundelsheimer%20Gr%C3%
 BCnen%20veranstalten%20wieder%20ihr%20beliebtes%20Boule-Turnier%21%3C%2Fp
 %3E%0A%0A%0A%0A%3Cp%3EAuf%20dem%20%E2%80%9EPlatz%20unter%20den%20Platanen
 %E2%80%9C%20in%20unserer%20Ortsmitte%2C%20gegen%C3%BCber%20dem%20alten%20
 Rathaus%20veranstalten%20wir%20am%20Samstag%2C%20den%2013.%20Juli%2C%20wi
 eder%20ein%20%E2%80%9EFreizeit-Boule-Turnier%E2%80%9C.%3C%2Fp%3E%0A%0A%0A
 %0A%3Cp%3EAlle%20B%C3%BCrger%3Ainnen%2C%20die%20diesen%20in%20Frankreich%
 20verbreiteten%20Gemeinschaftssport%20Boule%20%28P%C3%A9tanque%29%20kenne
 n%20oder%20kennenlernen%20wollen%2C%20sind%20herzlich%20eingeladen.%3C%2F
 p%3E%0A%0A%0A%0A%3Cp%3E%3Cstrong%3EUm%2016.30%20Uhr%20k%C3%B6nnen%20Sie%2
 0sich%20f%C3%BCr%20das%20Turnier%20anmelden.%3C%2Fstrong%3E%3Cbr%3E%3Cstr
 ong%3EDie%20Teilnahmegeb%C3%BChr%20betr%C3%A4gt%202%20%E2%82%AC%20pro%20S
 pieler%3Ain.%3C%2Fstrong%3E%3Cbr%3E%3Cstrong%3EDas%20Turnier%20startet%20
 um%2017%3A00%20Uhr.%3C%2Fstrong%3E%3C%2Fp%3E%0A%0A%0A%0A%3Cp%3EFalls%20Si
 e%20entsprechende%20silberne%20Boule-Kugeln%20zuhause%20haben%2C%20bringe
 n%20sie%20diese%20mit.%20%3Cbr%3EDie%20Regeln%20werden%20vorgestellt%20un
 d%20sind%20einfach%20zu%20erlernen.%20Jede%3Ar%20kann%20mitspielen.%3C%2F
 p%3E%0A%0A%0A%0A%3Cp%3EWir%20losen%20die%20Teams%20unter%20den%20Teilnehm
 er%3Ainnen%20aus%2C%20die%20gemeinsam%20antreten.%20F%C3%BCr%20die%20Sieg
 er%3Ainnen%20winken%20kleine%20Gewinne.%3Cbr%3EWir%20freuen%20uns%20%C3%B
 Cber%20viele%20Mitspieler%3Ainnen%20und%20Zuschauer%3Ainnen.%3C%2Fp%3E%0A
 %0A%0A%0A%3Cp%3EZum%20Abschluss%20gibt%20es%2C%20wie%20in%20Frankreich%20
 %C3%BCblich%2C%20einen%20Aperitif.%3C%2Fp%3E%0A":Die Gundelsheimer Grüne
 n veranstalten wieder ihr beliebtes Boule-Turnier!\n\nAuf dem „Platz un
 ter den Platanen“ in unserer Ortsmitte\, gegenüber dem alten Rathaus v
 eranstalten wir am Samstag\, den 13. Juli\, wieder ein „Freizeit-Boule-
 Turnier“.\n\nAlle Bürger:innen\, die diesen in Frankreich verbreiteten
  Gemeinschaftssport Boule (Pétanque) kennen oder kennenlernen wollen\, s
 ind herzlich eingeladen.\n\nUm 16.30 Uhr können Sie sich für das Turnie
 r anmelden.Die Teilnahmegebühr beträgt 2 € pro Spieler:in.Das Turnier
  startet um 17:00 Uhr.\n\nFalls Sie entsprechende silberne Boule-Kugeln z
 uhause haben\, bringen sie diese mit. Die Regeln werden vorgestellt und s
 ind einfach zu erlernen. Jede:r kann mitspielen.\n\nWir losen die Teams u
 nter den Teilnehmer:innen aus\, die gemeinsam antreten. Für die Sieger:i
 nnen winken kleine Gewinne.Wir freuen uns über viele Mitspieler:innen un
 d Zuschauer:innen.\n\nZum Abschluss gibt es\, wie in Frankreich üblich\,
  einen Aperitif.
CLASS:PUBLIC
DTSTART;TZID=Europe/Berlin:20240713T170000
DTEND;TZID=Europe/Berlin:20240713T210000
DTSTAMP:20260424T050216
END:VEVENT
END:VCALENDAR