BEGIN:VCALENDAR
VERSION:2.0
PRODID:gruene-bamberg-land.de
METHOD:PUBLISH
BEGIN:VTIMEZONE
TZID:Europe/Berlin
X-LIC-LOCATION:Europe/Berlin
BEGIN:DAYLIGHT
TZOFFSETFROM:+0100
TZOFFSETTO:+0200
TZNAME:CEST
DTSTART:19700329T020000
RRULE:FREQ=YEARLY;INTERVAL=1;BYDAY=-1SU;BYMONTH=3
END:DAYLIGHT
BEGIN:STANDARD
TZOFFSETFROM:+0200
TZOFFSETTO:+0100
TZNAME:CET
DTSTART:19701025T030000
RRULE:FREQ=YEARLY;INTERVAL=1;BYDAY=-1SU;BYMONTH=10
END:STANDARD
END:VTIMEZONE
BEGIN:VEVENT
UID:f3253c62bdf45bcd4081f8bae383b7b4@gruene-bamberg-land.de
URL;VALUE=URI:https://gruene-bamberg-land.de/termine/aufstellungsversamml
 ung-stimmkreis-402/
LOCATION:
SUMMARY:Aufstellungsversammlung – Stimmkreis 402
DESCRIPTION;ALTREP="data:text/html,%0A%3Cp%3EGemeinsame%20Aufstellungsver
 sammlung%20mit%20dem%20Stadtverband%20f%C3%BCr%20den%20Stimmkreis%20402.%
 20%3Cbr%3E%3Cbr%3EDer%20genaue%20Ort%20und%20die%20Tagesordnung%20wir%20h
 ier%20noch%20bekannt%20gegeben.%20%3C%2Fp%3E%0A":Gemeinsame Aufstellungsv
 ersammlung mit dem Stadtverband für den Stimmkreis 402. Der genaue Ort u
 nd die Tagesordnung wir hier noch bekannt gegeben.
CLASS:PUBLIC
DTSTART;TZID=Europe/Berlin:20221013T190000
DTEND;TZID=Europe/Berlin:20221013T210000
DTSTAMP:20260425T154009
END:VEVENT
END:VCALENDAR